Package: basilisk.utils Version: 1.18.0 Command: /home/biocbuild/bbs-3.20-bioc/R/bin/R CMD build --keep-empty-dirs --no-resave-data --md5 basilisk.utils StartedAt: 2025-02-10 16:18:34 -0500 (Mon, 10 Feb 2025) EndedAt: 2025-02-10 16:18:38 -0500 (Mon, 10 Feb 2025) EllapsedTime: 4.0 seconds RetCode: 0 Status: OK PackageFile: basilisk.utils_1.18.0.tar.gz PackageFileSize: 236.4 KiB