Package: basilisk.utils Version: 1.18.0 Command: /home/biocbuild/bbs-3.20-bioc/R/bin/R CMD INSTALL basilisk.utils StartedAt: 2025-02-10 15:15:14 -0500 (Mon, 10 Feb 2025) EndedAt: 2025-02-10 15:15:19 -0500 (Mon, 10 Feb 2025) EllapsedTime: 5.6 seconds RetCode: 0 Status: OK