Package: basilisk.utils Version: 1.18.0 Command: F:\biocbuild\bbs-3.20-bioc\R\bin\R.exe CMD INSTALL basilisk.utils StartedAt: 2025-02-03 15:39:40 -0500 (Mon, 03 Feb 2025) EndedAt: 2025-02-03 15:40:07 -0500 (Mon, 03 Feb 2025) EllapsedTime: 27.4 seconds RetCode: 0 Status: OK