Package: batchelor Version: 1.22.0 Command: rm -rf batchelor.buildbin-libdir && mkdir batchelor.buildbin-libdir && /Users/biocbuild/BBS/utils/build-universal.sh batchelor_1.22.0.tar.gz /Library/Frameworks/R.framework/Resources/bin/R batchelor.buildbin-libdir StartedAt: 2025-02-05 14:54:02 -0500 (Wed, 05 Feb 2025) EndedAt: 2025-02-05 14:54:53 -0500 (Wed, 05 Feb 2025) EllapsedTime: 50.5 seconds RetCode: 0 Status: OK PackageFile: batchelor_1.22.0.tgz PackageFileSize: 2.342 MiB