Package: batchelor Version: 1.22.0 Command: /Library/Frameworks/R.framework/Resources/bin/R CMD INSTALL batchelor StartedAt: 2025-02-03 17:42:47 -0500 (Mon, 03 Feb 2025) EndedAt: 2025-02-03 17:43:31 -0500 (Mon, 03 Feb 2025) EllapsedTime: 44.5 seconds RetCode: 0 Status: OK