Package: batchelor Version: 1.22.0 Command: rm -rf batchelor.buildbin-libdir && mkdir batchelor.buildbin-libdir && /Users/biocbuild/BBS/utils/build-universal.sh batchelor_1.22.0.tar.gz /Library/Frameworks/R.framework/Resources/bin/R batchelor.buildbin-libdir StartedAt: 2025-02-04 12:30:11 -0500 (Tue, 04 Feb 2025) EndedAt: 2025-02-04 12:31:46 -0500 (Tue, 04 Feb 2025) EllapsedTime: 94.6 seconds RetCode: 0 Status: OK PackageFile: batchelor_1.22.0.tgz PackageFileSize: 2.271 MiB