Package: batchelor Version: 1.22.0 Command: /Library/Frameworks/R.framework/Resources/bin/R CMD INSTALL batchelor StartedAt: 2025-02-03 16:34:41 -0500 (Mon, 03 Feb 2025) EndedAt: 2025-02-03 16:36:09 -0500 (Mon, 03 Feb 2025) EllapsedTime: 88.4 seconds RetCode: 0 Status: OK