Package: batchelor Version: 1.22.0 Command: /home/biocbuild/bbs-3.20-bioc/R/bin/R CMD INSTALL batchelor StartedAt: 2025-02-10 15:55:38 -0500 (Mon, 10 Feb 2025) EndedAt: 2025-02-10 15:56:16 -0500 (Mon, 10 Feb 2025) EllapsedTime: 37.9 seconds RetCode: 0 Status: OK