Package: batchelor Version: 1.22.0 Command: /home/biocbuild/R/R/bin/R CMD build --keep-empty-dirs --no-resave-data batchelor StartedAt: 2025-02-03 21:47:19 -0000 (Mon, 03 Feb 2025) EndedAt: 2025-02-03 21:51:25 -0000 (Mon, 03 Feb 2025) EllapsedTime: 246.1 seconds RetCode: 0 Status: OK PackageFile: batchelor_1.22.0.tar.gz PackageFileSize: 1.372 MiB