Package: batchelor Version: 1.22.0 Command: /home/biocbuild/R/R/bin/R CMD INSTALL batchelor StartedAt: 2025-01-30 20:59:16 -0000 (Thu, 30 Jan 2025) EndedAt: 2025-01-30 21:00:07 -0000 (Thu, 30 Jan 2025) EllapsedTime: 50.9 seconds RetCode: 0 Status: OK