Package: bayNorm Version: 1.24.0 Command: rm -rf bayNorm.buildbin-libdir && mkdir bayNorm.buildbin-libdir && /Users/biocbuild/BBS/utils/build-universal.sh bayNorm_1.24.0.tar.gz /Library/Frameworks/R.framework/Resources/bin/R bayNorm.buildbin-libdir StartedAt: 2025-02-05 14:54:14 -0500 (Wed, 05 Feb 2025) EndedAt: 2025-02-05 14:55:05 -0500 (Wed, 05 Feb 2025) EllapsedTime: 50.5 seconds RetCode: 0 Status: OK PackageFile: bayNorm_1.24.0.tgz PackageFileSize: 474.6 KiB