Package: bayNorm Version: 1.24.0 Command: /Library/Frameworks/R.framework/Resources/bin/R CMD check --install=check:bayNorm.install-out.txt --library=/Library/Frameworks/R.framework/Resources/library --no-vignettes --timings bayNorm_1.24.0.tar.gz StartedAt: 2025-02-11 00:00:16 -0500 (Tue, 11 Feb 2025) EndedAt: 2025-02-11 00:06:19 -0500 (Tue, 11 Feb 2025) EllapsedTime: 362.8 seconds RetCode: 0 Status: OK CheckDir: bayNorm.Rcheck Warnings: 0