Package: bayNorm Version: 1.24.0 Command: /home/biocbuild/bbs-3.20-bioc/R/bin/R CMD build --keep-empty-dirs --no-resave-data --md5 bayNorm StartedAt: 2025-02-03 16:26:24 -0500 (Mon, 03 Feb 2025) EndedAt: 2025-02-03 16:27:26 -0500 (Mon, 03 Feb 2025) EllapsedTime: 62.0 seconds RetCode: 0 Status: OK PackageFile: bayNorm_1.24.0.tar.gz PackageFileSize: 1.528 MiB