Package: bayNorm Version: 1.24.0 Command: chmod a+r bayNorm -R && F:\biocbuild\bbs-3.20-bioc\R\bin\R.exe CMD build --keep-empty-dirs --no-resave-data bayNorm StartedAt: 2025-02-10 17:31:52 -0500 (Mon, 10 Feb 2025) EndedAt: 2025-02-10 17:33:16 -0500 (Mon, 10 Feb 2025) EllapsedTime: 84.0 seconds RetCode: 0 Status: OK PackageFile: bayNorm_1.24.0.tar.gz PackageFileSize: 1.526 MiB