Package: bayNorm Version: 1.24.0 Command: F:\biocbuild\bbs-3.20-bioc\R\bin\R.exe CMD check --no-multiarch --install=check:bayNorm.install-out.txt --library=F:\biocbuild\bbs-3.20-bioc\R\library --no-vignettes --timings bayNorm_1.24.0.tar.gz StartedAt: 2025-02-10 23:18:13 -0500 (Mon, 10 Feb 2025) EndedAt: 2025-02-10 23:21:54 -0500 (Mon, 10 Feb 2025) EllapsedTime: 220.7 seconds RetCode: 0 Status: OK CheckDir: bayNorm.Rcheck Warnings: 0