Package: bayNorm Version: 1.24.0 Command: /home/biocbuild/R/R/bin/R CMD build --keep-empty-dirs --no-resave-data bayNorm StartedAt: 2025-02-03 21:47:27 -0000 (Mon, 03 Feb 2025) EndedAt: 2025-02-03 21:48:47 -0000 (Mon, 03 Feb 2025) EllapsedTime: 80.0 seconds RetCode: 0 Status: OK PackageFile: bayNorm_1.24.0.tar.gz PackageFileSize: 1.549 MiB