Package: bayNorm Version: 1.24.0 Command: /home/biocbuild/R/R/bin/R CMD check --install=check:bayNorm.install-out.txt --library=/home/biocbuild/R/R/site-library --no-vignettes --timings bayNorm_1.24.0.tar.gz StartedAt: 2025-02-04 04:36:37 -0000 (Tue, 04 Feb 2025) EndedAt: 2025-02-04 04:41:16 -0000 (Tue, 04 Feb 2025) EllapsedTime: 279.6 seconds RetCode: 0 Status: OK CheckDir: bayNorm.Rcheck Warnings: 0