Package: baySeq Version: 2.40.0 Command: rm -rf baySeq.buildbin-libdir && mkdir baySeq.buildbin-libdir && /Users/biocbuild/BBS/utils/build-universal.sh baySeq_2.40.0.tar.gz /Library/Frameworks/R.framework/Resources/bin/R baySeq.buildbin-libdir StartedAt: 2025-02-01 13:59:48 -0500 (Sat, 01 Feb 2025) EndedAt: 2025-02-01 14:00:10 -0500 (Sat, 01 Feb 2025) EllapsedTime: 22.6 seconds RetCode: 0 Status: OK PackageFile: baySeq_2.40.0.tgz PackageFileSize: 1.606 MiB