Package: baySeq Version: 2.40.0 Command: /Library/Frameworks/R.framework/Resources/bin/R CMD INSTALL baySeq StartedAt: 2025-01-30 15:21:56 -0500 (Thu, 30 Jan 2025) EndedAt: 2025-01-30 15:22:15 -0500 (Thu, 30 Jan 2025) EllapsedTime: 19.4 seconds RetCode: 0 Status: OK