Package: baySeq Version: 2.40.0 Command: /home/biocbuild/R/R/bin/R CMD build --keep-empty-dirs --no-resave-data baySeq StartedAt: 2024-11-19 22:59:39 -0000 (Tue, 19 Nov 2024) EndedAt: 2024-11-19 23:08:58 -0000 (Tue, 19 Nov 2024) EllapsedTime: 559.7 seconds RetCode: 0 Status: OK PackageFile: baySeq_2.40.0.tar.gz PackageFileSize: 1.096 MiB