Package: baySeq Version: 2.40.0 Command: /Library/Frameworks/R.framework/Resources/bin/R CMD build --keep-empty-dirs --no-resave-data baySeq StartedAt: 2025-02-10 17:06:35 -0500 (Mon, 10 Feb 2025) EndedAt: 2025-02-10 17:25:59 -0500 (Mon, 10 Feb 2025) EllapsedTime: 1164.0 seconds RetCode: 0 Status: OK PackageFile: baySeq_2.40.0.tar.gz PackageFileSize: 1.125 MiB