Package: baySeq Version: 2.40.0 Command: /Library/Frameworks/R.framework/Resources/bin/R CMD check --install=check:baySeq.install-out.txt --library=/Library/Frameworks/R.framework/Resources/library --no-vignettes --timings baySeq_2.40.0.tar.gz StartedAt: 2025-02-11 00:00:22 -0500 (Tue, 11 Feb 2025) EndedAt: 2025-02-11 00:07:17 -0500 (Tue, 11 Feb 2025) EllapsedTime: 414.8 seconds RetCode: 0 Status: OK CheckDir: baySeq.Rcheck Warnings: 0