Package: baySeq Version: 2.40.0 Command: /home/biocbuild/bbs-3.20-bioc/R/bin/R CMD INSTALL baySeq StartedAt: 2025-01-30 15:10:29 -0500 (Thu, 30 Jan 2025) EndedAt: 2025-01-30 15:10:45 -0500 (Thu, 30 Jan 2025) EllapsedTime: 15.6 seconds RetCode: 0 Status: OK