Package: baySeq Version: 2.40.0 Command: /home/biocbuild/R/R/bin/R CMD build --keep-empty-dirs --no-resave-data baySeq StartedAt: 2025-01-30 21:44:56 -0000 (Thu, 30 Jan 2025) EndedAt: 2025-01-30 21:53:13 -0000 (Thu, 30 Jan 2025) EllapsedTime: 497.1 seconds RetCode: 0 Status: OK PackageFile: baySeq_2.40.0.tar.gz PackageFileSize: 1.107 MiB