Package: baySeq Version: 2.40.0 Command: /home/biocbuild/R/R/bin/R CMD check --install=check:baySeq.install-out.txt --library=/home/biocbuild/R/R/site-library --no-vignettes --timings baySeq_2.40.0.tar.gz StartedAt: 2025-02-04 04:36:40 -0000 (Tue, 04 Feb 2025) EndedAt: 2025-02-04 04:41:23 -0000 (Tue, 04 Feb 2025) EllapsedTime: 282.6 seconds RetCode: 0 Status: OK CheckDir: baySeq.Rcheck Warnings: 0