Package: baySeq Version: 2.40.0 Command: /home/biocbuild/R/R/bin/R CMD INSTALL baySeq StartedAt: 2025-02-03 20:30:05 -0000 (Mon, 03 Feb 2025) EndedAt: 2025-02-03 20:30:27 -0000 (Mon, 03 Feb 2025) EllapsedTime: 22.5 seconds RetCode: 0 Status: OK