Package: bcSeq Version: 1.28.0 Command: /Library/Frameworks/R.framework/Resources/bin/R CMD build --keep-empty-dirs --no-resave-data bcSeq StartedAt: 2025-02-03 19:13:45 -0500 (Mon, 03 Feb 2025) EndedAt: 2025-02-03 19:14:43 -0500 (Mon, 03 Feb 2025) EllapsedTime: 58.0 seconds RetCode: 0 Status: OK PackageFile: bcSeq_1.28.0.tar.gz PackageFileSize: 241 KiB