Package: bcSeq Version: 1.28.0 Command: /Library/Frameworks/R.framework/Resources/bin/R CMD build --keep-empty-dirs --no-resave-data bcSeq StartedAt: 2025-02-03 17:14:01 -0500 (Mon, 03 Feb 2025) EndedAt: 2025-02-03 17:16:10 -0500 (Mon, 03 Feb 2025) EllapsedTime: 128.9 seconds RetCode: 0 Status: OK PackageFile: bcSeq_1.28.0.tar.gz PackageFileSize: 241 KiB