Package: bcSeq Version: 1.28.0 Command: F:\biocbuild\bbs-3.20-bioc\R\bin\R.exe CMD check --no-multiarch --install=check:bcSeq.install-out.txt --library=F:\biocbuild\bbs-3.20-bioc\R\library --no-vignettes --timings bcSeq_1.28.0.tar.gz StartedAt: 2025-02-10 23:19:10 -0500 (Mon, 10 Feb 2025) EndedAt: 2025-02-10 23:21:20 -0500 (Mon, 10 Feb 2025) EllapsedTime: 130.0 seconds RetCode: 0 Status: WARNINGS CheckDir: bcSeq.Rcheck Warnings: 1