Package: bcSeq Version: 1.28.0 Command: /home/biocbuild/R/R/bin/R CMD INSTALL bcSeq StartedAt: 2025-02-10 20:17:05 -0000 (Mon, 10 Feb 2025) EndedAt: 2025-02-10 20:17:54 -0000 (Mon, 10 Feb 2025) EllapsedTime: 48.9 seconds RetCode: 0 Status: OK