Package: beachmat.hdf5 Version: 1.4.0 Command: /Library/Frameworks/R.framework/Resources/bin/R CMD check --install=check:beachmat.hdf5.install-out.txt --library=/Library/Frameworks/R.framework/Resources/library --no-vignettes --timings beachmat.hdf5_1.4.0.tar.gz StartedAt: 2025-02-04 12:12:56 -0500 (Tue, 04 Feb 2025) EndedAt: 2025-02-04 12:15:07 -0500 (Tue, 04 Feb 2025) EllapsedTime: 131.0 seconds RetCode: 0 Status: WARNINGS CheckDir: beachmat.hdf5.Rcheck Warnings: 1