Package: beachmat.hdf5 Version: 1.4.0 Command: /home/biocbuild/bbs-3.20-bioc/R/bin/R CMD check --install=check:beachmat.hdf5.install-out.txt --library=/home/biocbuild/bbs-3.20-bioc/R/site-library --timings beachmat.hdf5_1.4.0.tar.gz StartedAt: 2025-02-03 20:17:08 -0500 (Mon, 03 Feb 2025) EndedAt: 2025-02-03 20:19:12 -0500 (Mon, 03 Feb 2025) EllapsedTime: 124.1 seconds RetCode: 0 Status: WARNINGS CheckDir: beachmat.hdf5.Rcheck Warnings: 1