Package: beachmat.hdf5 Version: 1.4.0 Command: chmod a+r beachmat.hdf5 -R && F:\biocbuild\bbs-3.20-bioc\R\bin\R.exe CMD build --keep-empty-dirs --no-resave-data beachmat.hdf5 StartedAt: 2025-02-03 17:38:52 -0500 (Mon, 03 Feb 2025) EndedAt: 2025-02-03 17:40:28 -0500 (Mon, 03 Feb 2025) EllapsedTime: 95.9 seconds RetCode: 0 Status: OK PackageFile: beachmat.hdf5_1.4.0.tar.gz PackageFileSize: 296.1 KiB