Package: beachmat.hdf5 Version: 1.4.0 Command: F:\biocbuild\bbs-3.20-bioc\R\bin\R.exe CMD INSTALL beachmat.hdf5 StartedAt: 2025-02-03 16:10:03 -0500 (Mon, 03 Feb 2025) EndedAt: 2025-02-03 16:11:10 -0500 (Mon, 03 Feb 2025) EllapsedTime: 66.9 seconds RetCode: 0 Status: OK