Package: beachmat.hdf5 Version: 1.4.0 Command: /home/biocbuild/R/R/bin/R CMD INSTALL beachmat.hdf5 StartedAt: 2025-02-03 20:34:52 -0000 (Mon, 03 Feb 2025) EndedAt: 2025-02-03 20:36:20 -0000 (Mon, 03 Feb 2025) EllapsedTime: 87.4 seconds RetCode: 0 Status: OK