Package: beachmat Version: 2.22.0 Command: /Library/Frameworks/R.framework/Resources/bin/R CMD build --keep-empty-dirs --no-resave-data beachmat StartedAt: 2025-02-03 19:13:47 -0500 (Mon, 03 Feb 2025) EndedAt: 2025-02-03 19:17:11 -0500 (Mon, 03 Feb 2025) EllapsedTime: 204.0 seconds RetCode: 0 Status: OK PackageFile: beachmat_2.22.0.tar.gz PackageFileSize: 366.7 KiB