Package: beachmat Version: 2.22.0 Command: /Library/Frameworks/R.framework/Resources/bin/R CMD INSTALL beachmat StartedAt: 2025-02-03 15:22:04 -0500 (Mon, 03 Feb 2025) EndedAt: 2025-02-03 15:25:03 -0500 (Mon, 03 Feb 2025) EllapsedTime: 179.6 seconds RetCode: 0 Status: OK