Package: beachmat Version: 2.22.0 Command: /Library/Frameworks/R.framework/Resources/bin/R CMD build --keep-empty-dirs --no-resave-data beachmat StartedAt: 2025-02-03 17:14:16 -0500 (Mon, 03 Feb 2025) EndedAt: 2025-02-03 17:22:31 -0500 (Mon, 03 Feb 2025) EllapsedTime: 495.2 seconds RetCode: 0 Status: OK PackageFile: beachmat_2.22.0.tar.gz PackageFileSize: 366.8 KiB