Package: beachmat Version: 2.22.0 Command: /Library/Frameworks/R.framework/Resources/bin/R CMD check --install=check:beachmat.install-out.txt --library=/Library/Frameworks/R.framework/Resources/library --no-vignettes --timings beachmat_2.22.0.tar.gz StartedAt: 2025-02-04 00:04:41 -0500 (Tue, 04 Feb 2025) EndedAt: 2025-02-04 00:20:50 -0500 (Tue, 04 Feb 2025) EllapsedTime: 969.1 seconds RetCode: 0 Status: OK CheckDir: beachmat.Rcheck Warnings: 0