Package: beachmat Version: 2.22.0 Command: /home/biocbuild/R/R/bin/R CMD build --keep-empty-dirs --no-resave-data beachmat StartedAt: 2025-02-03 21:49:27 -0000 (Mon, 03 Feb 2025) EndedAt: 2025-02-03 21:55:36 -0000 (Mon, 03 Feb 2025) EllapsedTime: 369.1 seconds RetCode: 0 Status: OK PackageFile: beachmat_2.22.0.tar.gz PackageFileSize: 434.6 KiB