Package: beachmat Version: 2.22.0 Command: /home/biocbuild/R/R/bin/R CMD INSTALL beachmat StartedAt: 2025-02-03 20:28:41 -0000 (Mon, 03 Feb 2025) EndedAt: 2025-02-03 20:34:51 -0000 (Mon, 03 Feb 2025) EllapsedTime: 370.7 seconds RetCode: 0 Status: OK