Package: beadarray Version: 2.56.0 Command: /home/biocbuild/bbs-3.20-bioc/R/bin/R CMD build --keep-empty-dirs --no-resave-data --md5 beadarray StartedAt: 2025-02-03 16:27:34 -0500 (Mon, 03 Feb 2025) EndedAt: 2025-02-03 16:30:07 -0500 (Mon, 03 Feb 2025) EllapsedTime: 153.1 seconds RetCode: 0 Status: OK PackageFile: beadarray_2.56.0.tar.gz PackageFileSize: 3.737 MiB