Package: beadarray Version: 2.56.0 Command: /home/biocbuild/bbs-3.20-bioc/R/bin/R CMD INSTALL beadarray StartedAt: 2025-02-03 15:26:44 -0500 (Mon, 03 Feb 2025) EndedAt: 2025-02-03 15:27:13 -0500 (Mon, 03 Feb 2025) EllapsedTime: 28.9 seconds RetCode: 0 Status: OK