Package: beadarray Version: 2.56.0 Command: /home/biocbuild/R/R/bin/R CMD build --keep-empty-dirs --no-resave-data beadarray StartedAt: 2025-02-03 21:50:10 -0000 (Mon, 03 Feb 2025) EndedAt: 2025-02-03 21:54:48 -0000 (Mon, 03 Feb 2025) EllapsedTime: 278.1 seconds RetCode: 0 Status: OK PackageFile: beadarray_2.56.0.tar.gz PackageFileSize: 2.9 MiB