Package: beadarray Version: 2.56.0 Command: /home/biocbuild/R/R/bin/R CMD INSTALL beadarray StartedAt: 2025-02-03 20:45:10 -0000 (Mon, 03 Feb 2025) EndedAt: 2025-02-03 20:45:45 -0000 (Mon, 03 Feb 2025) EllapsedTime: 35.1 seconds RetCode: 0 Status: OK