Package: benchdamic Version: 1.12.2 Command: /Library/Frameworks/R.framework/Resources/bin/R CMD build --keep-empty-dirs --no-resave-data benchdamic StartedAt: 2025-02-03 19:17:39 -0500 (Mon, 03 Feb 2025) EndedAt: 2025-02-03 19:39:04 -0500 (Mon, 03 Feb 2025) EllapsedTime: 1284.7 seconds RetCode: 0 Status: OK PackageFile: benchdamic_1.12.2.tar.gz PackageFileSize: 5.45 MiB