Package: benchdamic Version: 1.12.2 Command: /Library/Frameworks/R.framework/Resources/bin/R CMD INSTALL benchdamic StartedAt: 2025-02-03 17:39:34 -0500 (Mon, 03 Feb 2025) EndedAt: 2025-02-03 17:40:53 -0500 (Mon, 03 Feb 2025) EllapsedTime: 78.2 seconds RetCode: 0 Status: OK