Package: benchdamic Version: 1.12.2 Command: /Library/Frameworks/R.framework/Resources/bin/R CMD INSTALL benchdamic StartedAt: 2025-02-03 16:33:26 -0500 (Mon, 03 Feb 2025) EndedAt: 2025-02-03 16:35:54 -0500 (Mon, 03 Feb 2025) EllapsedTime: 148.8 seconds RetCode: 0 Status: OK