Package: benchdamic Version: 1.12.2 Command: /home/biocbuild/bbs-3.20-bioc/R/bin/R CMD INSTALL benchdamic StartedAt: 2025-02-03 15:59:29 -0500 (Mon, 03 Feb 2025) EndedAt: 2025-02-03 16:00:41 -0500 (Mon, 03 Feb 2025) EllapsedTime: 72.6 seconds RetCode: 0 Status: OK