Package: benchdamic Version: 1.12.2 Command: rm -rf benchdamic.buildbin-libdir && mkdir benchdamic.buildbin-libdir && F:\biocbuild\bbs-3.20-bioc\R\bin\R.exe CMD INSTALL --build --library=benchdamic.buildbin-libdir benchdamic_1.12.2.tar.gz StartedAt: 2025-02-04 08:01:55 -0500 (Tue, 04 Feb 2025) EndedAt: 2025-02-04 08:04:16 -0500 (Tue, 04 Feb 2025) EllapsedTime: 141.2 seconds RetCode: 0 Status: OK PackageFile: benchdamic_1.12.2.zip PackageFileSize: 2.213 MiB